BEGIN:VCALENDAR
VERSION:2.0
PRODID:-//West Carleton Online - ECPv5.0.1//NONSGML v1.0//EN
CALSCALE:GREGORIAN
METHOD:PUBLISH
X-WR-CALNAME:West Carleton Online
X-ORIGINAL-URL:https://westcarletononline.com
X-WR-CALDESC:Events for West Carleton Online
BEGIN:VTIMEZONE
TZID:America/New_York
BEGIN:DAYLIGHT
TZOFFSETFROM:-0500
TZOFFSETTO:-0400
TZNAME:EDT
DTSTART:20240310T070000
END:DAYLIGHT
BEGIN:STANDARD
TZOFFSETFROM:-0400
TZOFFSETTO:-0500
TZNAME:EST
DTSTART:20241103T060000
END:STANDARD
END:VTIMEZONE
BEGIN:VEVENT
DTSTART;VALUE=DATE:20241218
DTEND;VALUE=DATE:20241219
DTSTAMP:20260425T150157
CREATED:20241107T195837Z
LAST-MODIFIED:20241107T195837Z
UID:45973-1734480000-1734566399@westcarletononline.com
SUMMARY:DEADLINE: West Carleton Food Access Centre Christmas Initiative
DESCRIPTION: \n
URL:https://westcarletononline.com/event/deadline-west-carleton-food-access-centre-christmas-initiative/
LOCATION:West Carleton Community Complex\, 5670 Carp Road\, Kinburn\, Ontario\, K0A 2H0\, Canada
END:VEVENT
END:VCALENDAR