BEGIN:VCALENDAR
VERSION:2.0
PRODID:-//West Carleton Online - ECPv5.0.1//NONSGML v1.0//EN
CALSCALE:GREGORIAN
METHOD:PUBLISH
X-WR-CALNAME:West Carleton Online
X-ORIGINAL-URL:https://westcarletononline.com
X-WR-CALDESC:Events for West Carleton Online
BEGIN:VTIMEZONE
TZID:UTC
BEGIN:STANDARD
TZOFFSETFROM:+0000
TZOFFSETTO:+0000
TZNAME:UTC
DTSTART:20220101T000000
END:STANDARD
END:VTIMEZONE
BEGIN:VEVENT
DTSTART;TZID=UTC:20220618T134500
DTEND;TZID=UTC:20220618T150000
DTSTAMP:20260423T125757
CREATED:20220614T182403Z
LAST-MODIFIED:20220614T182403Z
UID:28760-1655559900-1655564400@westcarletononline.com
SUMMARY:DCA Fashion Show in support of WCFAC
DESCRIPTION: \n
URL:https://westcarletononline.com/event/dca-fashion-show-in-support-of-wcfac/
LOCATION:Dunrobin Community Centre
END:VEVENT
END:VCALENDAR