BEGIN:VCALENDAR
VERSION:2.0
PRODID:-//West Carleton Online - ECPv5.0.1//NONSGML v1.0//EN
CALSCALE:GREGORIAN
METHOD:PUBLISH
X-WR-CALNAME:West Carleton Online
X-ORIGINAL-URL:https://westcarletononline.com
X-WR-CALDESC:Events for West Carleton Online
BEGIN:VTIMEZONE
TZID:America/New_York
BEGIN:DAYLIGHT
TZOFFSETFROM:-0500
TZOFFSETTO:-0400
TZNAME:EDT
DTSTART:20250309T070000
END:DAYLIGHT
BEGIN:STANDARD
TZOFFSETFROM:-0400
TZOFFSETTO:-0500
TZNAME:EST
DTSTART:20251102T060000
END:STANDARD
END:VTIMEZONE
BEGIN:VEVENT
DTSTART;TZID=America/New_York:20251213T083000
DTEND;TZID=America/New_York:20251214T163000
DTSTAMP:20260426T011240
CREATED:20251201T181731Z
LAST-MODIFIED:20251201T181731Z
UID:53509-1765614600-1765729800@westcarletononline.com
SUMMARY:Corkery OFS Station 84 Christmas Tree Sale
DESCRIPTION: \n
URL:https://westcarletononline.com/event/corkery-ofs-station-84-christmas-tree-sale-2/
LOCATION:Public Works Building March Road\, 2959 March Rd.\, Ottawa\, ON\, Canada
END:VEVENT
END:VCALENDAR