BEGIN:VCALENDAR
VERSION:2.0
PRODID:-//West Carleton Online - ECPv5.0.1//NONSGML v1.0//EN
CALSCALE:GREGORIAN
METHOD:PUBLISH
X-WR-CALNAME:West Carleton Online
X-ORIGINAL-URL:https://westcarletononline.com
X-WR-CALDESC:Events for West Carleton Online
BEGIN:VTIMEZONE
TZID:UTC
BEGIN:STANDARD
TZOFFSETFROM:+0000
TZOFFSETTO:+0000
TZNAME:UTC
DTSTART:20220101T000000
END:STANDARD
END:VTIMEZONE
BEGIN:VEVENT
DTSTART;TZID=UTC:20220301T193000
DTEND;TZID=UTC:20220301T210000
DTSTAMP:20260419T181500
CREATED:20220207T211430Z
LAST-MODIFIED:20220212T000810Z
UID:26123-1646163000-1646168400@westcarletononline.com
SUMMARY:Corkery Community Association annual general meeting
DESCRIPTION:The Corkery Annual General meeting is going to be held virtually on Tuesday\, March 1. The community will be voting on the Executive Committee for 2022-2023 and the amended bylaws for the CCA. \nThe Corkery Community Association’s  \nAnnual General Meeting   \n Tuesday March 1\, 2022 \n7:30-9:00 PM\n                              \n \n Virtual link for the meeting: \n https://meet.google.com/pnh-xwwe-hzr \n \n               \n AGM Agenda:\n \n                  1.  Vote on Amending CCA’S  Bylaws*\n                  2.  Vote for new Executive Board Members and                                                                  additional Board Members \n                  3.  Update on the Community Centre expansion \n                    \n\n*Important Notes Regarding Bylaws:\n\nPrior to the AGM: \n-The community will have an opportunity to review the amended bylaws  by  visiting: https://www.corkerycommunity.ca/proposed-corkery-       community-association-by-laws/ \n-All comments and suggestions should be made before February 23\, 2022\, to Katherine Woodward\, at: president@corkerycommunity.ca\nThis is so that the finalized bylaws can be voted on at the AGM.\nFor more information or to register for the meeting email: president@corkerycommunity.ca. \n
URL:https://westcarletononline.com/event/corkery-community-association-annual-general-meeting/
LOCATION:Corkery Community Centre
END:VEVENT
END:VCALENDAR