BEGIN:VCALENDAR
VERSION:2.0
PRODID:-//West Carleton Online - ECPv5.0.1//NONSGML v1.0//EN
CALSCALE:GREGORIAN
METHOD:PUBLISH
X-WR-CALNAME:West Carleton Online
X-ORIGINAL-URL:https://westcarletononline.com
X-WR-CALDESC:Events for West Carleton Online
BEGIN:VTIMEZONE
TZID:America/New_York
BEGIN:DAYLIGHT
TZOFFSETFROM:-0500
TZOFFSETTO:-0400
TZNAME:EDT
DTSTART:20240310T070000
END:DAYLIGHT
BEGIN:STANDARD
TZOFFSETFROM:-0400
TZOFFSETTO:-0500
TZNAME:EST
DTSTART:20241103T060000
END:STANDARD
END:VTIMEZONE
BEGIN:VEVENT
DTSTART;TZID=America/New_York:20240302T140000
DTEND;TZID=America/New_York:20240302T180000
DTSTAMP:20260424T193350
CREATED:20240218T215032Z
LAST-MODIFIED:20240218T215032Z
UID:40620-1709388000-1709402400@westcarletononline.com
SUMMARY:Community Meeting with MPP Karen McCrimmon
DESCRIPTION: \n
URL:https://westcarletononline.com/event/community-meeting-with-mpp-karen-mccrimmon/
LOCATION:Heart and Soul Cafe\, 2741 Dunrobin Rd.\, Dunrobin\, On.\, K0A 1T0\, Canada
END:VEVENT
END:VCALENDAR