BEGIN:VCALENDAR
VERSION:2.0
PRODID:-//West Carleton Online - ECPv5.0.1//NONSGML v1.0//EN
CALSCALE:GREGORIAN
METHOD:PUBLISH
X-WR-CALNAME:West Carleton Online
X-ORIGINAL-URL:https://westcarletononline.com
X-WR-CALDESC:Events for West Carleton Online
BEGIN:VTIMEZONE
TZID:UTC
BEGIN:STANDARD
TZOFFSETFROM:+0000
TZOFFSETTO:+0000
TZNAME:UTC
DTSTART:20180101T000000
END:STANDARD
END:VTIMEZONE
BEGIN:VEVENT
DTSTART;TZID=UTC:20181028T103000
DTEND;TZID=UTC:20181028T114500
DTSTAMP:20260425T232111
CREATED:20181024T031123Z
LAST-MODIFIED:20181024T031123Z
UID:2959-1540722600-1540727100@westcarletononline.com
SUMMARY:Codemaker Program - Parents & Children
DESCRIPTION:Children and parents will learn to program their own interactive stories and games. Register online. \n
URL:https://westcarletononline.com/event/codemaker-program-parents-children/
LOCATION:Carp Public Library\, 3911 Carp Rd\, Carp\, ON\, K0A 1L0\, Canada
ORGANIZER;CN="Carp%20branch%2C%20Ottawa%20Public%20Library":MAILTO:infoservice@biblioottawalibrary.ca
END:VEVENT
END:VCALENDAR