BEGIN:VCALENDAR
VERSION:2.0
PRODID:-//West Carleton Online - ECPv5.0.1//NONSGML v1.0//EN
CALSCALE:GREGORIAN
METHOD:PUBLISH
X-WR-CALNAME:West Carleton Online
X-ORIGINAL-URL:https://westcarletononline.com
X-WR-CALDESC:Events for West Carleton Online
BEGIN:VTIMEZONE
TZID:UTC
BEGIN:STANDARD
TZOFFSETFROM:+0000
TZOFFSETTO:+0000
TZNAME:UTC
DTSTART:20180101T000000
END:STANDARD
END:VTIMEZONE
BEGIN:VEVENT
DTSTART;TZID=UTC:20181208T090000
DTEND;TZID=UTC:20181208T130000
DTSTAMP:20260421T035428
CREATED:20181121T025432Z
LAST-MODIFIED:20181121T025432Z
UID:3541-1544259600-1544274000@westcarletononline.com
SUMMARY:Christmas Bazaar
DESCRIPTION:Come check out baking & preserves\, treasure area\, furniture & decor and accessories! Join the raffle for 3 special theme baskets:  movie night\, chocolate treats and spa time. Savour homemade soups\, muffins\, coffee and tea in the bazaar café.  All welcome! \n! \n
URL:https://westcarletononline.com/event/christmas-bazaar/
LOCATION:St. John’s Lutheran Church.\, 47 McLachlin St. S.\, Arnprior\, Ontario\, K7S 2Z1\, Canada
ORGANIZER;CN="Enid%20Blackwell":MAILTO:eblackwell.ca@gmail.com
END:VEVENT
END:VCALENDAR