BEGIN:VCALENDAR
VERSION:2.0
PRODID:-//West Carleton Online - ECPv5.0.1//NONSGML v1.0//EN
CALSCALE:GREGORIAN
METHOD:PUBLISH
X-WR-CALNAME:West Carleton Online
X-ORIGINAL-URL:https://westcarletononline.com
X-WR-CALDESC:Events for West Carleton Online
BEGIN:VTIMEZONE
TZID:UTC
BEGIN:STANDARD
TZOFFSETFROM:+0000
TZOFFSETTO:+0000
TZNAME:UTC
DTSTART:20230101T000000
END:STANDARD
END:VTIMEZONE
BEGIN:VEVENT
DTSTART;TZID=UTC:20231118T140000
DTEND;TZID=UTC:20231118T160000
DTSTAMP:20260424T093444
CREATED:20231114T200701Z
LAST-MODIFIED:20231114T200859Z
UID:38797-1700316000-1700323200@westcarletononline.com
SUMMARY:Carp Ridge Learning Centre panel discussion Supporting our Youth
DESCRIPTION: \n
URL:https://westcarletononline.com/event/carp-ridge-learning-centre-panel-discussion-supporting-our-youth/
LOCATION:Carp Ridge EcoWellness Centre\, 2386 Thomas Dolan Pkwy\, Carp\, ON\, K0A 1L0\, Canada
END:VEVENT
END:VCALENDAR