BEGIN:VCALENDAR
VERSION:2.0
PRODID:-//West Carleton Online - ECPv5.0.1//NONSGML v1.0//EN
CALSCALE:GREGORIAN
METHOD:PUBLISH
X-WR-CALNAME:West Carleton Online
X-ORIGINAL-URL:https://westcarletononline.com
X-WR-CALDESC:Events for West Carleton Online
BEGIN:VTIMEZONE
TZID:America/New_York
BEGIN:DAYLIGHT
TZOFFSETFROM:-0500
TZOFFSETTO:-0400
TZNAME:EDT
DTSTART:20250309T070000
END:DAYLIGHT
BEGIN:STANDARD
TZOFFSETFROM:-0400
TZOFFSETTO:-0500
TZNAME:EST
DTSTART:20251102T060000
END:STANDARD
END:VTIMEZONE
BEGIN:VEVENT
DTSTART;TZID=America/New_York:20251024T080000
DTEND;TZID=America/New_York:20251026T160000
DTSTAMP:20260423T062422
CREATED:20251018T014059Z
LAST-MODIFIED:20251018T014059Z
UID:52602-1761292800-1761494400@westcarletononline.com
SUMMARY:Carp Metal and E-Waste Recycling
DESCRIPTION: \n
URL:https://westcarletononline.com/event/carp-metal-and-e-waste-recycling/
LOCATION:W. Erskine Johnston Arena\, 3832 Carp Rd.\, Carp\, Ontario
END:VEVENT
END:VCALENDAR