BEGIN:VCALENDAR
VERSION:2.0
PRODID:-//West Carleton Online - ECPv5.0.1//NONSGML v1.0//EN
CALSCALE:GREGORIAN
METHOD:PUBLISH
X-WR-CALNAME:West Carleton Online
X-ORIGINAL-URL:https://westcarletononline.com
X-WR-CALDESC:Events for West Carleton Online
BEGIN:VTIMEZONE
TZID:America/Toronto
BEGIN:DAYLIGHT
TZOFFSETFROM:-0500
TZOFFSETTO:-0400
TZNAME:EDT
DTSTART:20240310T070000
END:DAYLIGHT
BEGIN:STANDARD
TZOFFSETFROM:-0400
TZOFFSETTO:-0500
TZNAME:EST
DTSTART:20241103T060000
END:STANDARD
END:VTIMEZONE
BEGIN:VEVENT
DTSTART;TZID=America/Toronto:20240814T103000
DTEND;TZID=America/Toronto:20240814T113000
DTSTAMP:20260422T022613
CREATED:20240729T212206Z
LAST-MODIFIED:20240729T212206Z
UID:43765-1723631400-1723635000@westcarletononline.com
SUMMARY:Carp Library Program - Way-Out Wednesday
DESCRIPTION:Drop-in program for family continuing the Summer Reading Club theme of space. \nRead some books and make a craft.   Make a button. \n
URL:https://westcarletononline.com/event/carp-library-program-way-out-wednesday-3/
LOCATION:Carp Branch – Ottawa Public Library\, 3911 Carp Road
ORGANIZER;CN="Carp%20branch%2C%20Ottawa%20Public%20Library":MAILTO:infoservice@biblioottawalibrary.ca
END:VEVENT
END:VCALENDAR