BEGIN:VCALENDAR
VERSION:2.0
PRODID:-//West Carleton Online - ECPv5.0.1//NONSGML v1.0//EN
CALSCALE:GREGORIAN
METHOD:PUBLISH
X-WR-CALNAME:West Carleton Online
X-ORIGINAL-URL:https://westcarletononline.com
X-WR-CALDESC:Events for West Carleton Online
BEGIN:VTIMEZONE
TZID:UTC
BEGIN:STANDARD
TZOFFSETFROM:+0000
TZOFFSETTO:+0000
TZNAME:UTC
DTSTART:20230101T000000
END:STANDARD
END:VTIMEZONE
BEGIN:VEVENT
DTSTART;TZID=UTC:20230802T173000
DTEND;TZID=UTC:20230802T220000
DTSTAMP:20260421T224825
CREATED:20230704T195024Z
LAST-MODIFIED:20230704T195024Z
UID:36125-1690997400-1691013600@westcarletononline.com
SUMMARY:Carp Fair Drive-In Bingo
DESCRIPTION: \n
URL:https://westcarletononline.com/event/carp-fair-drive-in-bingo-14/
LOCATION:Carp Fairgrounds\, 3790 Carp Rd.\, Ottawa\, Canada
END:VEVENT
END:VCALENDAR