BEGIN:VCALENDAR
VERSION:2.0
PRODID:-//West Carleton Online - ECPv5.0.1//NONSGML v1.0//EN
CALSCALE:GREGORIAN
METHOD:PUBLISH
X-WR-CALNAME:West Carleton Online
X-ORIGINAL-URL:https://westcarletononline.com
X-WR-CALDESC:Events for West Carleton Online
BEGIN:VTIMEZONE
TZID:UTC
BEGIN:STANDARD
TZOFFSETFROM:+0000
TZOFFSETTO:+0000
TZNAME:UTC
DTSTART:20190101T000000
END:STANDARD
END:VTIMEZONE
BEGIN:VEVENT
DTSTART;TZID=UTC:20191005T100000
DTEND;TZID=UTC:20191005T140000
DTSTAMP:20260424T052015
CREATED:20191005T173433Z
LAST-MODIFIED:20191001T175418Z
UID:10266-1570269600-1570284000@westcarletononline.com
SUMMARY:Carp Commons Fall Open House
DESCRIPTION: \n
URL:https://westcarletononline.com/event/carp-commons-fall-open-house/
LOCATION:Carp Commons Retirement Village\, 485 Donald B. Munro Drive\, Carp\, ON\, K0A1L0\, Canada
END:VEVENT
END:VCALENDAR