BEGIN:VCALENDAR
VERSION:2.0
PRODID:-//West Carleton Online - ECPv5.0.1//NONSGML v1.0//EN
CALSCALE:GREGORIAN
METHOD:PUBLISH
X-WR-CALNAME:West Carleton Online
X-ORIGINAL-URL:https://westcarletononline.com
X-WR-CALDESC:Events for West Carleton Online
BEGIN:VTIMEZONE
TZID:UTC
BEGIN:STANDARD
TZOFFSETFROM:+0000
TZOFFSETTO:+0000
TZNAME:UTC
DTSTART:20180101T000000
END:STANDARD
END:VTIMEZONE
BEGIN:VEVENT
DTSTART;VALUE=DATE:20180823
DTEND;VALUE=DATE:20180826
DTSTAMP:20260425T233556
CREATED:20180723T235119Z
LAST-MODIFIED:20180723T235119Z
UID:1161-1534982400-1535241599@westcarletononline.com
SUMMARY:Carp Capers
DESCRIPTION:The Rural Route Theatre Company presents Carp Capers at the Carp Fairgrounds. Three one-act plays for $15. Tickets available from http://www.ruralroot.org or by calling 613-618-9789. \n
URL:https://westcarletononline.com/event/carp-capers/
END:VEVENT
END:VCALENDAR