BEGIN:VCALENDAR
VERSION:2.0
PRODID:-//West Carleton Online - ECPv5.0.1//NONSGML v1.0//EN
CALSCALE:GREGORIAN
METHOD:PUBLISH
X-WR-CALNAME:West Carleton Online
X-ORIGINAL-URL:https://westcarletononline.com
X-WR-CALDESC:Events for West Carleton Online
BEGIN:VTIMEZONE
TZID:UTC
BEGIN:STANDARD
TZOFFSETFROM:+0000
TZOFFSETTO:+0000
TZNAME:UTC
DTSTART:20230101T000000
END:STANDARD
END:VTIMEZONE
BEGIN:VEVENT
DTSTART;TZID=UTC:20230126T183000
DTEND;TZID=UTC:20230126T210000
DTSTAMP:20260424T045617
CREATED:20221220T185921Z
LAST-MODIFIED:20221220T185921Z
UID:32283-1674757800-1674766800@westcarletononline.com
SUMMARY:Carp Agricultural Society annual general meeting
DESCRIPTION: \n
URL:https://westcarletononline.com/event/carp-agricultural-society-annual-general-meeting-2/
LOCATION:Carp Agricultural Hall\, 3790 Carp Road\, Carp\, Ontario\, K0A 1L0\, Canada
END:VEVENT
END:VCALENDAR