BEGIN:VCALENDAR
VERSION:2.0
PRODID:-//West Carleton Online - ECPv5.0.1//NONSGML v1.0//EN
CALSCALE:GREGORIAN
METHOD:PUBLISH
X-WR-CALNAME:West Carleton Online
X-ORIGINAL-URL:https://westcarletononline.com
X-WR-CALDESC:Events for West Carleton Online
BEGIN:VTIMEZONE
TZID:America/New_York
BEGIN:DAYLIGHT
TZOFFSETFROM:-0500
TZOFFSETTO:-0400
TZNAME:EDT
DTSTART:20250309T070000
END:DAYLIGHT
BEGIN:STANDARD
TZOFFSETFROM:-0400
TZOFFSETTO:-0500
TZNAME:EST
DTSTART:20251102T060000
END:STANDARD
END:VTIMEZONE
BEGIN:VEVENT
DTSTART;TZID=America/New_York:20251221T120000
DTEND;TZID=America/New_York:20251221T160000
DTSTAMP:20260423T193020
CREATED:20251218T192817Z
LAST-MODIFIED:20251218T192817Z
UID:53873-1766318400-1766332800@westcarletononline.com
SUMMARY:Branch 616 Turkey Shoot
DESCRIPTION:Turkey Shoot Dart Tournament\nBlind draw doubles\nSunday Dec 21st\nRegistration 12:00\nPlay at 12:30\nWest Carleton Legion\n$10:00 entry\nWin your Christmas Turkey\n
URL:https://westcarletononline.com/event/branch-616-turkey-shoot/
LOCATION:Royal Canadian Legion\, Branch 616\, 377 Allbirch Rd.\, Ottawa
END:VEVENT
END:VCALENDAR