BEGIN:VCALENDAR
VERSION:2.0
PRODID:-//West Carleton Online - ECPv5.0.1//NONSGML v1.0//EN
CALSCALE:GREGORIAN
METHOD:PUBLISH
X-WR-CALNAME:West Carleton Online
X-ORIGINAL-URL:https://westcarletononline.com
X-WR-CALDESC:Events for West Carleton Online
BEGIN:VTIMEZONE
TZID:UTC
BEGIN:STANDARD
TZOFFSETFROM:+0000
TZOFFSETTO:+0000
TZNAME:UTC
DTSTART:20220101T000000
END:STANDARD
END:VTIMEZONE
BEGIN:VEVENT
DTSTART;TZID=UTC:20220504T193000
DTEND;TZID=UTC:20220504T213000
DTSTAMP:20260423T171316
CREATED:20220427T020256Z
LAST-MODIFIED:20220427T020256Z
UID:27714-1651692600-1651699800@westcarletononline.com
SUMMARY:Bethel-St. Andrew's United Church Fashion Show
DESCRIPTION:\nThe Bethel-St. Andrew’s United Church FASHION SHOW is coming up on May 4th at the Kinburn Community Centre!\nCost $15 per person\n7:30 PM- 9:30 PM\nMill Street Fashions of Arnprior presents contemporary fashions for every body type. There will be goodies\, tea and coffee. It is sponsored by the Bethel St Andrew’s United Church Women. For Tickets or Reservations call: Donna Laughlin 613-832-1435 or Nancy Hayley 613-623-2671 or Elly Leben 613-623-1940.\nMasks are encouraged and appreciated.\n\n
URL:https://westcarletononline.com/event/bethel-st-andrews-united-church-fashion-show/
LOCATION:Kinburn Community Centre\, 3045 Kinburn Side Rd.\, Ottawa\, Ontario\, K0A 2H0\, Canada
END:VEVENT
END:VCALENDAR