BEGIN:VCALENDAR
VERSION:2.0
PRODID:-//West Carleton Online - ECPv5.0.1//NONSGML v1.0//EN
CALSCALE:GREGORIAN
METHOD:PUBLISH
X-WR-CALNAME:West Carleton Online
X-ORIGINAL-URL:https://westcarletononline.com
X-WR-CALDESC:Events for West Carleton Online
BEGIN:VTIMEZONE
TZID:UTC
BEGIN:STANDARD
TZOFFSETFROM:+0000
TZOFFSETTO:+0000
TZNAME:UTC
DTSTART:20210101T000000
END:STANDARD
END:VTIMEZONE
BEGIN:VEVENT
DTSTART;TZID=UTC:20211204T100000
DTEND;TZID=UTC:20211204T140000
DTSTAMP:20260423T191330
CREATED:20211105T214550Z
LAST-MODIFIED:20211105T214550Z
UID:24377-1638612000-1638626400@westcarletononline.com
SUMMARY:Bethel St. Andrews United Church Christmas Bazaar and Bake Sale
DESCRIPTION:The United Church Women will be hosting a Christmas Bazaar and Bake Sale at Bethel-St. Andrews United Church in Fitzroy Harbor. \nFor more information contact Judith Waddell at Judith_waddell@hotmail.com. \n
URL:https://westcarletononline.com/event/bethel-st-andrews-united-church-christmas-bazaar-and-bake-sale/
LOCATION:Bethel St Andrew’s United Church\, 184 Jack Lougheed Way\, Fitzroy Harbour
END:VEVENT
END:VCALENDAR