BEGIN:VCALENDAR
VERSION:2.0
PRODID:-//West Carleton Online - ECPv5.0.1//NONSGML v1.0//EN
CALSCALE:GREGORIAN
METHOD:PUBLISH
X-WR-CALNAME:West Carleton Online
X-ORIGINAL-URL:https://westcarletononline.com
X-WR-CALDESC:Events for West Carleton Online
BEGIN:VTIMEZONE
TZID:America/New_York
BEGIN:DAYLIGHT
TZOFFSETFROM:-0500
TZOFFSETTO:-0400
TZNAME:EDT
DTSTART:20180311T070000
END:DAYLIGHT
BEGIN:STANDARD
TZOFFSETFROM:-0400
TZOFFSETTO:-0500
TZNAME:EST
DTSTART:20181104T060000
END:STANDARD
END:VTIMEZONE
BEGIN:VEVENT
DTSTART;TZID=America/New_York:20181208T090000
DTEND;TZID=America/New_York:20181208T130000
DTSTAMP:20260420T190659
CREATED:20181121T023612Z
LAST-MODIFIED:20181121T023612Z
UID:3538-1544259600-1544274000@westcarletononline.com
SUMMARY:Bazaar with Bake Sale & Café
DESCRIPTION:This Christmas Bazaar features lots of great items – wonderful homemade baking & preserves\, furniture (some antique)\, artwork and household décor\, crafts\, jewellery & purses\, and a treasure area. Everything is gently used. Come early for the best selection. \nOur lunch café will sell 3 kinds of homemade soup\, muffins\, coffee and tea. And\, there will be a raffle for 3 theme baskets (Date Night\, Bath/ Spa\, Movie Night). \nIf you’re downsizing\, donations of items are very welcome. Please leave a message at the church at 613-623-4562. \n
URL:https://westcarletononline.com/event/bazaar-with-bake-sale-cafe/
LOCATION:St.John’s Lutheran\, Arnprior\, 47 McLachlin St. S.\, Arnprior\, ON\, Ontario\, K7S 2Z1\, Canada
ORGANIZER;CN="St.%20John%27s%20Lutheran%20Church":MAILTO:stjohnscommunications@gmail.com
END:VEVENT
END:VCALENDAR