BEGIN:VCALENDAR
VERSION:2.0
PRODID:-//West Carleton Online - ECPv5.0.1//NONSGML v1.0//EN
CALSCALE:GREGORIAN
METHOD:PUBLISH
X-WR-CALNAME:West Carleton Online
X-ORIGINAL-URL:https://westcarletononline.com
X-WR-CALDESC:Events for West Carleton Online
BEGIN:VTIMEZONE
TZID:UTC
BEGIN:STANDARD
TZOFFSETFROM:+0000
TZOFFSETTO:+0000
TZNAME:UTC
DTSTART:20180101T000000
END:STANDARD
END:VTIMEZONE
BEGIN:VEVENT
DTSTART;TZID=UTC:20181208T110000
DTEND;TZID=UTC:20181208T130000
DTSTAMP:20260419T233526
CREATED:20181108T012812Z
LAST-MODIFIED:20181108T012812Z
UID:3259-1544266800-1544274000@westcarletononline.com
SUMMARY:Annual Christmas  Bazaar & Bake Sale
DESCRIPTION:St. Paul’s Anglican Church Dunrobin\, 1118 Thomas A. Dolan Parkway. Homemade Baked Goods\, Christmas Gifts\, Books and an excellent Luncheon \n
URL:https://westcarletononline.com/event/annual-christmas-bazaar-bake-sale/
ORGANIZER;CN="Glyn%20Davies":MAILTO:patandglyndavies@gmail.com
END:VEVENT
END:VCALENDAR