BEGIN:VCALENDAR
VERSION:2.0
PRODID:-//West Carleton Online - ECPv5.0.1//NONSGML v1.0//EN
CALSCALE:GREGORIAN
METHOD:PUBLISH
X-WR-CALNAME:West Carleton Online
X-ORIGINAL-URL:https://westcarletononline.com
X-WR-CALDESC:Events for West Carleton Online
BEGIN:VTIMEZONE
TZID:America/Halifax
BEGIN:DAYLIGHT
TZOFFSETFROM:-0400
TZOFFSETTO:-0300
TZNAME:ADT
DTSTART:20220313T060000
END:DAYLIGHT
BEGIN:STANDARD
TZOFFSETFROM:-0300
TZOFFSETTO:-0400
TZNAME:AST
DTSTART:20221106T050000
END:STANDARD
END:VTIMEZONE
BEGIN:VEVENT
DTSTART;TZID=America/Halifax:20220930T193000
DTEND;TZID=America/Halifax:20220930T220000
DTSTAMP:20260422T175431
CREATED:20220930T011424Z
LAST-MODIFIED:20220930T011424Z
UID:30746-1664566200-1664575200@westcarletononline.com
SUMMARY:Almonte Inferno - Season Home Opener vs Westport Rideaus
DESCRIPTION:Please join us as the Almonte Inferno host the Westport Rideaus in our NCJHL 2022-23 season Home Opener on Friday September 30.\nPuck drops at 7:30 at the John Levi Community Centre\nAdmission at the gate:\n$10 adults | $5 Students\nunder 10 free (must be accompanied by an adult)\n
URL:https://westcarletononline.com/event/almonte-inferno-season-home-opener-vs-westport-rideaus/
LOCATION:John Levi Community Centre\, 182 Bridge St\, Almonte\, ON\, K0A 1A0\, Canada
ORGANIZER;CN="Almonte%20Inferno":MAILTO:john@infernojuniorhockey.com
END:VEVENT
END:VCALENDAR