BEGIN:VCALENDAR
VERSION:2.0
PRODID:-//West Carleton Online - ECPv5.0.1//NONSGML v1.0//EN
CALSCALE:GREGORIAN
METHOD:PUBLISH
X-WR-CALNAME:West Carleton Online
X-ORIGINAL-URL:https://westcarletononline.com
X-WR-CALDESC:Events for West Carleton Online
BEGIN:VTIMEZONE
TZID:UTC
BEGIN:STANDARD
TZOFFSETFROM:+0000
TZOFFSETTO:+0000
TZNAME:UTC
DTSTART:20190101T000000
END:STANDARD
END:VTIMEZONE
BEGIN:VEVENT
DTSTART;TZID=UTC:20190214T190000
DTEND;TZID=UTC:20190214T220000
DTSTAMP:20260424T155504
CREATED:20190110T210337Z
LAST-MODIFIED:20190212T080119Z
UID:4354-1550170800-1550181600@westcarletononline.com
SUMMARY:6-Hand Euchres
DESCRIPTION:February 7\, 14\, 21 and 28 \nSix-Hand euchre at the Galetta Community Hall\, 119 Darwin St. Galetta Start Time 7 pm Thursday nights in February.  \nAdmission $5. Prizes and refreshments. \n
URL:https://westcarletononline.com/event/6-hand-euchres/
LOCATION:Galetta Community Centre\, 119 Darwin St.\, Galetta\, ON\, K7S 3G7\, Canada
ORGANIZER;CN="Colin%20Crowe":MAILTO:colinjc1977@gmail.com
END:VEVENT
END:VCALENDAR