BEGIN:VCALENDAR
VERSION:2.0
PRODID:-//West Carleton Online - ECPv5.0.1//NONSGML v1.0//EN
CALSCALE:GREGORIAN
METHOD:PUBLISH
X-WR-CALNAME:West Carleton Online
X-ORIGINAL-URL:https://westcarletononline.com
X-WR-CALDESC:Events for West Carleton Online
BEGIN:VTIMEZONE
TZID:UTC
BEGIN:STANDARD
TZOFFSETFROM:+0000
TZOFFSETTO:+0000
TZNAME:UTC
DTSTART:20230101T000000
END:STANDARD
END:VTIMEZONE
BEGIN:VEVENT
DTSTART;TZID=UTC:20230506T110000
DTEND;TZID=UTC:20230506T160000
DTSTAMP:20260425T122918
CREATED:20230505T002306Z
LAST-MODIFIED:20230505T002405Z
UID:34961-1683370800-1683388800@westcarletononline.com
SUMMARY:Beltane Celebration and Artisan Market
DESCRIPTION: \n
URL:https://westcarletononline.com/event/34961/
LOCATION:Carp Ridge EcoWellness Centre\, 2386 Thomas Dolan Pkwy\, Carp\, ON\, K0A 1L0\, Canada
END:VEVENT
END:VCALENDAR