BEGIN:VCALENDAR
VERSION:2.0
PRODID:-//West Carleton Online - ECPv5.0.1//NONSGML v1.0//EN
CALSCALE:GREGORIAN
METHOD:PUBLISH
X-WR-CALNAME:West Carleton Online
X-ORIGINAL-URL:https://westcarletononline.com
X-WR-CALDESC:Events for West Carleton Online
BEGIN:VTIMEZONE
TZID:UTC
BEGIN:STANDARD
TZOFFSETFROM:+0000
TZOFFSETTO:+0000
TZNAME:UTC
DTSTART:20230101T000000
END:STANDARD
END:VTIMEZONE
BEGIN:VEVENT
DTSTART;VALUE=DATE:20230825
DTEND;VALUE=DATE:20230827
DTSTAMP:20260419T234522
CREATED:20230809T193421Z
LAST-MODIFIED:20230809T193421Z
UID:36814-1692921600-1693094399@westcarletononline.com
SUMMARY:2023 OCPA Plowing Match in Richmond
DESCRIPTION:The Ottawa Carleton Plowmen’s Association (OCPA) Plowing Match is set for Aug. 25-26\, across from 3285 Eagleson Road\, Richmond\, owned by Chris Schouten. \nOn Friday\, Aug. 25\, there will be an opening ceremony at 10 a.m. and VIP Plowing Competition commencing at 11 a.m. followed by a light lunch and awards ceremony.   \nOn Saturday\, Aug. 26\, rain or shine\, the OCPA Plowing Match starts at 10 a.m.\, with competitors from across the county vying for a spot to move on to the next level of plowing perfection using both modern and vintage tractors\, as well as horses. The day will also showcase an antique tractor display. All are welcome\, and admission and parking are free. \nWinners will be announced at a banquet held at St. Philip’s Parish Hall\, 127 Burke St.\, Richmond\, 5 p.m.\, with proceeding presided over in part by the Ottawa Carleton Queen of the Furrow\, Rhiannah Gallagher of Osgoode. Tickets are $35 and can be purchased on site. \n2023 marks the 40th anniversary of OCPA hosting the International Plowing Match in Richmond in 1983. To commemorate the occasion\, there will be ‘Meet & Greet’ reception at 3 p.m. at the plowing site. Additionally\, committee chairs and their members from the 1983 IPM are extended a complimentary invitation to the banquet. For more details\, please contact Jennifer Hyland at 613-822-6353 or jwaldroff@xplornet.com.   \nPlowers must compete at local matches to be eligible to plow at the International Plowing Match (IPM) and Rural Expo in Bowling Green\, (Dufferin County) Ontario\, September 19 – 23\, which is celebrating the 105th anniversary of the IPM. \n
URL:https://westcarletononline.com/event/2023-ocpa-plowing-match-in-richmond/
LOCATION:3285 Eagleson Road\, 3285 Eagleson Road\, Richmond\, ON
END:VEVENT
END:VCALENDAR