BEGIN:VCALENDAR
VERSION:2.0
PRODID:-//West Carleton Online - ECPv5.0.1//NONSGML v1.0//EN
CALSCALE:GREGORIAN
METHOD:PUBLISH
X-WR-CALNAME:West Carleton Online
X-ORIGINAL-URL:https://westcarletononline.com
X-WR-CALDESC:Events for West Carleton Online
BEGIN:VTIMEZONE
TZID:UTC
BEGIN:STANDARD
TZOFFSETFROM:+0000
TZOFFSETTO:+0000
TZNAME:UTC
DTSTART:20200101T000000
END:STANDARD
END:VTIMEZONE
BEGIN:VEVENT
DTSTART;TZID=UTC:20201212T190000
DTEND;TZID=UTC:20201212T210000
DTSTAMP:20260423T224406
CREATED:20201029T184838Z
LAST-MODIFIED:20201029T184838Z
UID:17755-1607799600-1607806800@westcarletononline.com
SUMMARY:11th Annual Carp Santa Claus Parade Drive-Thru (float registration information within)
DESCRIPTION:Click here for West Carleton Online’s story on the event: https://westcarletononline.com/carp-santa-parade-a-stationary-go-dec-12/ \n  \n  \n
URL:https://westcarletononline.com/event/11th-annual-carp-santa-claus-parade-drive-thru-float-registration-information-within/
LOCATION:Carp Fairgrounds\, 3790 Carp Rd.\, Ottawa\, Canada
END:VEVENT
END:VCALENDAR